BEGIN:VCALENDAR
VERSION:2.0
PRODID:-//Volkstuinvereniging OTG Leerdam - ECPv6.15.20//NONSGML v1.0//EN
CALSCALE:GREGORIAN
METHOD:PUBLISH
X-WR-CALNAME:Volkstuinvereniging OTG Leerdam
X-ORIGINAL-URL:https://otgleerdam.nl
X-WR-CALDESC:Evenementen voor Volkstuinvereniging OTG Leerdam
REFRESH-INTERVAL;VALUE=DURATION:PT1H
X-Robots-Tag:noindex
X-PUBLISHED-TTL:PT1H
BEGIN:VTIMEZONE
TZID:Europe/Amsterdam
BEGIN:DAYLIGHT
TZOFFSETFROM:+0100
TZOFFSETTO:+0200
TZNAME:CEST
DTSTART:20250330T010000
END:DAYLIGHT
BEGIN:STANDARD
TZOFFSETFROM:+0200
TZOFFSETTO:+0100
TZNAME:CET
DTSTART:20251026T010000
END:STANDARD
BEGIN:DAYLIGHT
TZOFFSETFROM:+0100
TZOFFSETTO:+0200
TZNAME:CEST
DTSTART:20260329T010000
END:DAYLIGHT
BEGIN:STANDARD
TZOFFSETFROM:+0200
TZOFFSETTO:+0100
TZNAME:CET
DTSTART:20261025T010000
END:STANDARD
BEGIN:DAYLIGHT
TZOFFSETFROM:+0100
TZOFFSETTO:+0200
TZNAME:CEST
DTSTART:20270328T010000
END:DAYLIGHT
BEGIN:STANDARD
TZOFFSETFROM:+0200
TZOFFSETTO:+0100
TZNAME:CET
DTSTART:20271031T010000
END:STANDARD
BEGIN:DAYLIGHT
TZOFFSETFROM:+0100
TZOFFSETTO:+0200
TZNAME:CEST
DTSTART:20280326T010000
END:DAYLIGHT
BEGIN:STANDARD
TZOFFSETFROM:+0200
TZOFFSETTO:+0100
TZNAME:CET
DTSTART:20281029T010000
END:STANDARD
END:VTIMEZONE
BEGIN:VEVENT
DTSTART;VALUE=DATE:20260410
DTEND;VALUE=DATE:20270531
DTSTAMP:20260426T041831
CREATED:20260408T075109Z
LAST-MODIFIED:20260408T080105Z
UID:1932-1775779200-1811721599@otgleerdam.nl
SUMMARY:Elke VRIJDAGavond = KAARTavond vanaf 20:00u. Kom jij deze vrijdag ook?
DESCRIPTION:Kom jij ook gezellig kaarten komende vrijdag? \nElke vrijdagavond kun je gezellig komen kaarten bij OTG Leerdam. Vanaf 20:00 uur in de kantine. \n 
URL:https://otgleerdam.nl/agenda/vrijdagavond-is-kaartavond-bij-otg-leerdam/
LOCATION:Volkstuinvereniging OTG Leerdam\, Oud Schaik 33\, Leerdam\, 4141 JA
END:VEVENT
END:VCALENDAR