BEGIN:VCALENDAR
VERSION:2.0
PRODID:-//Volkstuinvereniging OTG Leerdam - ECPv6.15.20//NONSGML v1.0//EN
CALSCALE:GREGORIAN
METHOD:PUBLISH
X-WR-CALNAME:Volkstuinvereniging OTG Leerdam
X-ORIGINAL-URL:https://otgleerdam.nl
X-WR-CALDESC:Evenementen voor Volkstuinvereniging OTG Leerdam
REFRESH-INTERVAL;VALUE=DURATION:PT1H
X-Robots-Tag:noindex
X-PUBLISHED-TTL:PT1H
BEGIN:VTIMEZONE
TZID:Europe/Amsterdam
BEGIN:DAYLIGHT
TZOFFSETFROM:+0100
TZOFFSETTO:+0200
TZNAME:CEST
DTSTART:20250330T010000
END:DAYLIGHT
BEGIN:STANDARD
TZOFFSETFROM:+0200
TZOFFSETTO:+0100
TZNAME:CET
DTSTART:20251026T010000
END:STANDARD
BEGIN:DAYLIGHT
TZOFFSETFROM:+0100
TZOFFSETTO:+0200
TZNAME:CEST
DTSTART:20260329T010000
END:DAYLIGHT
BEGIN:STANDARD
TZOFFSETFROM:+0200
TZOFFSETTO:+0100
TZNAME:CET
DTSTART:20261025T010000
END:STANDARD
BEGIN:DAYLIGHT
TZOFFSETFROM:+0100
TZOFFSETTO:+0200
TZNAME:CEST
DTSTART:20270328T010000
END:DAYLIGHT
BEGIN:STANDARD
TZOFFSETFROM:+0200
TZOFFSETTO:+0100
TZNAME:CET
DTSTART:20271031T010000
END:STANDARD
BEGIN:DAYLIGHT
TZOFFSETFROM:+0100
TZOFFSETTO:+0200
TZNAME:CEST
DTSTART:20280326T010000
END:DAYLIGHT
BEGIN:STANDARD
TZOFFSETFROM:+0200
TZOFFSETTO:+0100
TZNAME:CET
DTSTART:20281029T010000
END:STANDARD
END:VTIMEZONE
BEGIN:VEVENT
DTSTART;VALUE=DATE:20260410
DTEND;VALUE=DATE:20270531
DTSTAMP:20260426T023223
CREATED:20260408T075109Z
LAST-MODIFIED:20260408T080105Z
UID:1932-1775779200-1811721599@otgleerdam.nl
SUMMARY:Elke VRIJDAGavond = KAARTavond vanaf 20:00u. Kom jij deze vrijdag ook?
DESCRIPTION:Kom jij ook gezellig kaarten komende vrijdag? \nElke vrijdagavond kun je gezellig komen kaarten bij OTG Leerdam. Vanaf 20:00 uur in de kantine. \n 
URL:https://otgleerdam.nl/agenda/vrijdagavond-is-kaartavond-bij-otg-leerdam/
LOCATION:Volkstuinvereniging OTG Leerdam\, Oud Schaik 33\, Leerdam\, 4141 JA
END:VEVENT
BEGIN:VEVENT
DTSTART;TZID=Europe/Amsterdam:20260427T100000
DTEND;TZID=Europe/Amsterdam:20260427T120000
DTSTAMP:20260426T023223
CREATED:20260302T154852Z
LAST-MODIFIED:20260327T081304Z
UID:1542-1777284000-1777291200@otgleerdam.nl
SUMMARY:Koningsdag
DESCRIPTION:Op Koningsdag bent u als lid of donateur van 10.00 tot 12.00 uur van harte welkom om een lekkere oranje tompouce te eten ter ere van de verjaardag van onze koning!
URL:https://otgleerdam.nl/agenda/koningsdag/
LOCATION:Volkstuinvereniging OTG Leerdam\, Oud Schaik 33\, Leerdam\, 4141 JA
ATTACH;FMTTYPE=image/jpeg:https://otgleerdam.nl/wp-content/uploads/2026/03/Vier-Koningsdag-gezellig-bij-volkstuinvereniging-OTG-Leerdam.jpg
END:VEVENT
BEGIN:VEVENT
DTSTART;TZID=Europe/Amsterdam:20260506T200000
DTEND;TZID=Europe/Amsterdam:20260506T213000
DTSTAMP:20260426T023223
CREATED:20260213T164333Z
LAST-MODIFIED:20260313T083452Z
UID:1406-1778097600-1778103000@otgleerdam.nl
SUMMARY:Algemene ledenvergadering
DESCRIPTION:De volgende ALV is gepland op 6 mei\, om 20.00 uur in de kantine. De agenda krijgt u nog gemaild.
URL:https://otgleerdam.nl/agenda/ledenbijeenkomst-voorbeeld/
LOCATION:Volkstuinvereniging OTG Leerdam\, Oud Schaik 33\, Leerdam\, 4141 JA
ATTACH;FMTTYPE=image/jpeg:https://otgleerdam.nl/wp-content/uploads/2026/02/enrico-bet-IicyiaPYGGI-unsplash-scaled.jpg
END:VEVENT
BEGIN:VEVENT
DTSTART;TZID=Europe/Amsterdam:20260523T120000
DTEND;TZID=Europe/Amsterdam:20260523T170000
DTSTAMP:20260426T023223
CREATED:20260303T105011Z
LAST-MODIFIED:20260327T105139Z
UID:1552-1779537600-1779555600@otgleerdam.nl
SUMMARY:Plantjesmarkt
DESCRIPTION:Op zaterdag 23 mei\, vanaf 12.00 uur\, is er weer een planten(ruil)markt! \nU kent het wel\, toch maar een paar zaadjes extra zaaien voor als ze niet allemaal kiemen\, en dan blijken ze toch allemaal op te groeien!  Gevolg: te veel plantjes voor de ruimte die u ter beschikking hebt. Of één van uw zaaisels deed het heel goed en een ander mislukte. Dan is de plantjesmarkt een leuke manier om toch aan de gewenste plantjes te komen en uw overschot uit te delen. We dagen iedereen uit om ook iets onbekends/origineels te zaaien! Zaden uitruilen kan natuurlijk ook! \nDe plantjes zijn allemaal gratis en de markt is alleen voor leden. \nIedereen welkom vanaf 12.00 uur. Wij zorgen voor een broodje hamburger.
URL:https://otgleerdam.nl/agenda/plantjesmarkt/
LOCATION:Volkstuinvereniging OTG Leerdam\, Oud Schaik 33\, Leerdam\, 4141 JA
ATTACH;FMTTYPE=image/jpeg:https://otgleerdam.nl/wp-content/uploads/2026/03/Plantjes-ruilen-Volkstuinvereniging-OTG-Leerdam.jpg
END:VEVENT
BEGIN:VEVENT
DTSTART;TZID=Europe/Amsterdam:20260829T170000
DTEND;TZID=Europe/Amsterdam:20260829T210000
DTSTAMP:20260426T023223
CREATED:20260303T105431Z
LAST-MODIFIED:20260313T084124Z
UID:1555-1788022800-1788037200@otgleerdam.nl
SUMMARY:Zomer BBQ
DESCRIPTION:Kom gezellig naar onze zomer BBQ!
URL:https://otgleerdam.nl/agenda/zomer-bbq/
LOCATION:Volkstuinvereniging OTG Leerdam\, Oud Schaik 33\, Leerdam\, 4141 JA
ATTACH;FMTTYPE=image/jpeg:https://otgleerdam.nl/wp-content/uploads/2026/03/Zomer-BBQ-Volkstuinvereninging-OTG-Leerdam-scaled.jpg
END:VEVENT
BEGIN:VEVENT
DTSTART;TZID=Europe/Amsterdam:20260919T140000
DTEND;TZID=Europe/Amsterdam:20260919T170000
DTSTAMP:20260426T023223
CREATED:20260408T073043Z
LAST-MODIFIED:20260408T073043Z
UID:1909-1789826400-1789837200@otgleerdam.nl
SUMMARY:Kaartmiddag - Jokeren en klaverjassen
DESCRIPTION:Kom jij ook gezellig kaarten? \nVan september t/m mei: elke 3e zaterdagmiddag is kaartmiddag bij OTG Leerdam. Kom gezellig jokeren en klaverjassen van 14:00 tot 17:00 uur in de kantine bij OTG Leerdam. \n 
URL:https://otgleerdam.nl/agenda/kaartmiddag-jokeren-en-klaverjassen/
LOCATION:Volkstuinvereniging OTG Leerdam\, Oud Schaik 33\, Leerdam\, 4141 JA
ATTACH;FMTTYPE=image/jpeg:https://otgleerdam.nl/wp-content/uploads/2026/04/3e-zaterdag-van-de-maand-kaartmiddag-bij-OTG-Leerdam.jpg
END:VEVENT
BEGIN:VEVENT
DTSTART;TZID=Europe/Amsterdam:20261017T140000
DTEND;TZID=Europe/Amsterdam:20261017T170000
DTSTAMP:20260426T023223
CREATED:20260408T073438Z
LAST-MODIFIED:20260408T073438Z
UID:1913-1792245600-1792256400@otgleerdam.nl
SUMMARY:3e zaterdag van oktober - Kaartmiddag: jokeren en klaverjassen
DESCRIPTION:Kom jij ook gezellig kaarten? \nVan september t/m mei: elke 3e zaterdagmiddag is kaartmiddag bij OTG Leerdam. Kom gezellig jokeren en klaverjassen van 14:00 tot 17:00 uur in de kantine bij OTG Leerdam. \n 
URL:https://otgleerdam.nl/agenda/3e-zaterdag-van-oktober-kaartmiddag-jokeren-en-klaverjassen/
LOCATION:Volkstuinvereniging OTG Leerdam\, Oud Schaik 33\, Leerdam\, 4141 JA
ATTACH;FMTTYPE=image/jpeg:https://otgleerdam.nl/wp-content/uploads/2026/04/3e-zaterdag-van-de-maand-kaartmiddag-bij-OTG-Leerdam.jpg
END:VEVENT
BEGIN:VEVENT
DTSTART;VALUE=DATE:20261024
DTEND;VALUE=DATE:20261025
DTSTAMP:20260426T023223
CREATED:20260303T110546Z
LAST-MODIFIED:20260313T084131Z
UID:1558-1792800000-1792886399@otgleerdam.nl
SUMMARY:Mossel- en visavond
DESCRIPTION:Hou alvast deze datum gereserveerd want we gaan gezellig mossels en vis eten bij het complex van Volkstuinvereniging OTG Leerdam!
URL:https://otgleerdam.nl/agenda/mossel-en-visavond/
LOCATION:Volkstuinvereniging OTG Leerdam\, Oud Schaik 33\, Leerdam\, 4141 JA
ATTACH;FMTTYPE=image/jpeg:https://otgleerdam.nl/wp-content/uploads/2026/03/Mossels-eten_Activiteit-OTG-Leerdam-e1773313129125.jpg
END:VEVENT
BEGIN:VEVENT
DTSTART;TZID=Europe/Amsterdam:20261121T140000
DTEND;TZID=Europe/Amsterdam:20261121T170000
DTSTAMP:20260426T023223
CREATED:20260408T073532Z
LAST-MODIFIED:20260408T073532Z
UID:1915-1795269600-1795280400@otgleerdam.nl
SUMMARY:3e zaterdag van november - Kaartmiddag: jokeren en klaverjassen
DESCRIPTION:Kom jij ook gezellig kaarten? \nVan september t/m mei: elke 3e zaterdagmiddag is kaartmiddag bij OTG Leerdam. Kom gezellig jokeren en klaverjassen van 14:00 tot 17:00 uur in de kantine bij OTG Leerdam. \n 
URL:https://otgleerdam.nl/agenda/3e-zaterdag-van-november-kaartmiddag-jokeren-en-klaverjassen/
LOCATION:Volkstuinvereniging OTG Leerdam\, Oud Schaik 33\, Leerdam\, 4141 JA
ATTACH;FMTTYPE=image/jpeg:https://otgleerdam.nl/wp-content/uploads/2026/04/3e-zaterdag-van-de-maand-kaartmiddag-bij-OTG-Leerdam.jpg
END:VEVENT
BEGIN:VEVENT
DTSTART;TZID=Europe/Amsterdam:20261205T140000
DTEND;TZID=Europe/Amsterdam:20261205T170000
DTSTAMP:20260426T023223
CREATED:20260408T073713Z
LAST-MODIFIED:20260408T073713Z
UID:1917-1796479200-1796490000@otgleerdam.nl
SUMMARY:5 december - Kaartmiddag: jokeren en klaverjassen
DESCRIPTION:Kom jij ook gezellig kaarten? \nKom gezellig jokeren en klaverjassen van 14:00 tot 17:00 uur in de kantine bij OTG Leerdam. \n 
URL:https://otgleerdam.nl/agenda/5-december-kaartmiddag-jokeren-en-klaverjassen/
LOCATION:Volkstuinvereniging OTG Leerdam\, Oud Schaik 33\, Leerdam\, 4141 JA
ATTACH;FMTTYPE=image/jpeg:https://otgleerdam.nl/wp-content/uploads/2026/04/3e-zaterdag-van-de-maand-kaartmiddag-bij-OTG-Leerdam.jpg
END:VEVENT
BEGIN:VEVENT
DTSTART;VALUE=DATE:20261219
DTEND;VALUE=DATE:20261220
DTSTAMP:20260426T023223
CREATED:20260303T110738Z
LAST-MODIFIED:20260313T084141Z
UID:1561-1797638400-1797724799@otgleerdam.nl
SUMMARY:Draaimiddag
DESCRIPTION:Hou alvast deze datum gereserveerd want vandaag is het draaimiddag. Info volgt nog.
URL:https://otgleerdam.nl/agenda/draaimiddag/
LOCATION:Volkstuinvereniging OTG Leerdam\, Oud Schaik 33\, Leerdam\, 4141 JA
ATTACH;FMTTYPE=image/jpeg:https://otgleerdam.nl/wp-content/uploads/2026/02/Tuinieren-in-de-winter-OTG-Leerdam.jpg
END:VEVENT
BEGIN:VEVENT
DTSTART;VALUE=DATE:20261230
DTEND;VALUE=DATE:20261231
DTSTAMP:20260426T023223
CREATED:20260303T115112Z
LAST-MODIFIED:20260313T084149Z
UID:1563-1798588800-1798675199@otgleerdam.nl
SUMMARY:Oliebollen eten bij Volkstuinvereniging OTG Leerdam
DESCRIPTION:Kom gezellig oliebollen eten bij Volkstuinvereniging OTG Leerdam\nLaten we gezellig samen dit mooie jaar afsluiten met warme oliebollen. Zet deze datum alvast is je agenda.
URL:https://otgleerdam.nl/agenda/oliebollen-eten-bij-volkstuinvereniging-otg-leerdam/
LOCATION:Volkstuinvereniging OTG Leerdam\, Oud Schaik 33\, Leerdam\, 4141 JA
ATTACH;FMTTYPE=image/jpeg:https://otgleerdam.nl/wp-content/uploads/2026/03/Oliebollen-eten-bij-volkstuinvereniging-OTG-Leerdam.jpg
END:VEVENT
BEGIN:VEVENT
DTSTART;TZID=Europe/Amsterdam:20270116T140000
DTEND;TZID=Europe/Amsterdam:20270116T170000
DTSTAMP:20260426T023223
CREATED:20260408T073911Z
LAST-MODIFIED:20260408T073911Z
UID:1919-1800108000-1800118800@otgleerdam.nl
SUMMARY:3e zaterdag van januari - Kaartmiddag: jokeren en klaverjassen
DESCRIPTION:Kom jij ook gezellig kaarten? \nVan september t/m mei: elke 3e zaterdagmiddag is kaartmiddag bij OTG Leerdam. Kom gezellig jokeren en klaverjassen van 14:00 tot 17:00 uur in de kantine bij OTG Leerdam. \n 
URL:https://otgleerdam.nl/agenda/3e-zaterdag-van-januari-kaartmiddag-jokeren-en-klaverjassen/
LOCATION:Volkstuinvereniging OTG Leerdam\, Oud Schaik 33\, Leerdam\, 4141 JA
ATTACH;FMTTYPE=image/jpeg:https://otgleerdam.nl/wp-content/uploads/2026/04/3e-zaterdag-van-de-maand-kaartmiddag-bij-OTG-Leerdam.jpg
END:VEVENT
BEGIN:VEVENT
DTSTART;TZID=Europe/Amsterdam:20270220T140000
DTEND;TZID=Europe/Amsterdam:20270220T170000
DTSTAMP:20260426T023223
CREATED:20260408T074116Z
LAST-MODIFIED:20260408T074116Z
UID:1924-1803132000-1803142800@otgleerdam.nl
SUMMARY:3e zaterdag van februari - Kaartmiddag: jokeren en klaverjassen
DESCRIPTION:Kom jij ook gezellig kaarten? \nVan september t/m mei: elke 3e zaterdagmiddag is kaartmiddag bij OTG Leerdam. Kom gezellig jokeren en klaverjassen van 14:00 tot 17:00 uur in de kantine bij OTG Leerdam. \n 
URL:https://otgleerdam.nl/agenda/3e-zaterdag-van-februari-kaartmiddag-jokeren-en-klaverjassen/
LOCATION:Volkstuinvereniging OTG Leerdam\, Oud Schaik 33\, Leerdam\, 4141 JA
ATTACH;FMTTYPE=image/jpeg:https://otgleerdam.nl/wp-content/uploads/2026/04/3e-zaterdag-van-de-maand-kaartmiddag-bij-OTG-Leerdam.jpg
END:VEVENT
BEGIN:VEVENT
DTSTART;TZID=Europe/Amsterdam:20270320T140000
DTEND;TZID=Europe/Amsterdam:20270320T170000
DTSTAMP:20260426T023223
CREATED:20260408T074226Z
LAST-MODIFIED:20260408T074226Z
UID:1926-1805551200-1805562000@otgleerdam.nl
SUMMARY:3e zaterdag van maart - Kaartmiddag: jokeren en klaverjassen
DESCRIPTION:Kom jij ook gezellig kaarten? \nVan september t/m mei: elke 3e zaterdagmiddag is kaartmiddag bij OTG Leerdam. Kom gezellig jokeren en klaverjassen van 14:00 tot 17:00 uur in de kantine bij OTG Leerdam. \n 
URL:https://otgleerdam.nl/agenda/3e-zaterdag-van-maart-kaartmiddag-jokeren-en-klaverjassen/
LOCATION:Volkstuinvereniging OTG Leerdam\, Oud Schaik 33\, Leerdam\, 4141 JA
ATTACH;FMTTYPE=image/jpeg:https://otgleerdam.nl/wp-content/uploads/2026/04/3e-zaterdag-van-de-maand-kaartmiddag-bij-OTG-Leerdam.jpg
END:VEVENT
BEGIN:VEVENT
DTSTART;TZID=Europe/Amsterdam:20270417T140000
DTEND;TZID=Europe/Amsterdam:20270417T170000
DTSTAMP:20260426T023223
CREATED:20260408T074318Z
LAST-MODIFIED:20260408T074318Z
UID:1927-1807970400-1807981200@otgleerdam.nl
SUMMARY:3e zaterdag van april - Kaartmiddag: jokeren en klaverjassen
DESCRIPTION:Kom jij ook gezellig kaarten? \nVan september t/m mei: elke 3e zaterdagmiddag is kaartmiddag bij OTG Leerdam. Kom gezellig jokeren en klaverjassen van 14:00 tot 17:00 uur in de kantine bij OTG Leerdam. \n 
URL:https://otgleerdam.nl/agenda/3e-zaterdag-van-april-kaartmiddag-jokeren-en-klaverjassen/
LOCATION:Volkstuinvereniging OTG Leerdam\, Oud Schaik 33\, Leerdam\, 4141 JA
ATTACH;FMTTYPE=image/jpeg:https://otgleerdam.nl/wp-content/uploads/2026/04/3e-zaterdag-van-de-maand-kaartmiddag-bij-OTG-Leerdam.jpg
END:VEVENT
BEGIN:VEVENT
DTSTART;TZID=Europe/Amsterdam:20270515T140000
DTEND;TZID=Europe/Amsterdam:20270515T170000
DTSTAMP:20260426T023223
CREATED:20260408T074436Z
LAST-MODIFIED:20260408T075949Z
UID:1930-1810389600-1810400400@otgleerdam.nl
SUMMARY:3e zaterdag van mei - Kaartmiddag: jokeren en klaverjassen
DESCRIPTION:Kom jij ook gezellig kaarten? \nVan september t/m mei: elke 3e zaterdagmiddag is kaartmiddag bij OTG Leerdam. Kom gezellig jokeren en klaverjassen van 14:00 tot 17:00 uur in de kantine bij OTG Leerdam. \n 
URL:https://otgleerdam.nl/agenda/3e-zaterdag-van-mei-kaartmiddag-jokeren-en-klaverjassen/
LOCATION:Volkstuinvereniging OTG Leerdam\, Oud Schaik 33\, Leerdam\, 4141 JA
ATTACH;FMTTYPE=image/jpeg:https://otgleerdam.nl/wp-content/uploads/2026/04/3e-zaterdag-van-de-maand-kaartmiddag-bij-OTG-Leerdam.jpg
END:VEVENT
END:VCALENDAR